BEGIN:VCALENDAR
PRODID:-//eluceo/ical//2.0/EN
VERSION:2.0
CALSCALE:GREGORIAN
BEGIN:VEVENT
UID:6b012cc710280f04795693a220825c3b
DTSTAMP:20260420T044122Z
SUMMARY:Welcome Shabbat for Rabbi Neil P.G. Hirsch
DESCRIPTION:Jewish Federation of the Berkshires\nBerkshire Jewish Community
  Calendar\nhttps://jewishberkshires.org/jewish-federation-of-the-berkshire
 s-calendar/welcome-shabbat-for-rabbi-neil-pg-hirsch-1436370268\n\nCome ext
 end a warm Berkshire welcome to Hevreh's new rabbi. Rabbi Neil P.G. Hirsch
 . Also\, welcome our newest board members Deborah Harris\, Brian Grossman\
 , and Elihu Katzman who will be installed this Shabbat. Join us for Kabbal
 at Shabbat services\, followed by a festive oneg.
DTSTART;TZID=America/New_York:20150710T193000
DTEND;TZID=America/New_York:20150710T213000
END:VEVENT
END:VCALENDAR
