BEGIN:VCALENDAR
PRODID:-//eluceo/ical//2.0/EN
VERSION:2.0
CALSCALE:GREGORIAN
BEGIN:VEVENT
UID:d73541ee1e117e3145f3144d78a989e8
DTSTAMP:20260419T174432Z
SUMMARY:Wave or Washout? What can we expect in the mid-term elections?
DESCRIPTION:Jewish Federation of the Berkshires\nBerkshire Jewish Community
  Calendar\nhttps://jewishberkshires.org/jewish-federation-of-the-berkshire
 s-calendar/wave-or-washout-what-can-we-expect-in-the-mid-term-elections-15
 23370480\n\nAround the country\, Democrats have been winning in districts 
 long-held by Republicans. What is behind this wave? What are the issues an
 d dynamics moving people? And which people are being moved? What does it s
 ay about long-term changes in our culture and politics? And will it end up
  as a washout\, another surprise like the 2016 election?\n\nHevreh member 
 Richard Kirsch will present data and analysis\, informed by his 40 years o
 f activism and study of history. Mr. Kirsch is the Director of Our S...
DTSTART;TZID=America/New_York:20180830T160000
DTEND;TZID=America/New_York:20180830T173000
END:VEVENT
END:VCALENDAR
