BEGIN:VCALENDAR
PRODID:-//eluceo/ical//2.0/EN
VERSION:2.0
CALSCALE:GREGORIAN
BEGIN:VEVENT
UID:91646f37c6b0c7512e05108cf9f1a095
DTSTAMP:20260420T062848Z
SUMMARY:WAM Fresh Takes Play Reading: In Her Bones by Jessica Kahkoska
DESCRIPTION:Jewish Federation of the Berkshires\nBerkshire Jewish Community
  Calendar\nhttps://jewishberkshires.org/jewish-federation-of-the-berkshire
 s-calendar/wam-fresh-takes-play-reading-in-her-bones-by-jessica-kahkoska-1
 686253210\n\nWAM Theatre's Fresh Takes Play Reading Series presents ground
 -breaking stories that are imaginative and thoughtful explorations of comp
 lex issues affecting women and girls. Featuring local professional actors 
 and directors\, reading of this brand new play will be followed by a conve
 rsation with the playwright\, artists and audience.
DTSTART;TZID=America/New_York:20230730T140000
DTEND;TZID=America/New_York:20230730T160000
END:VEVENT
END:VCALENDAR
