BEGIN:VCALENDAR
PRODID:-//eluceo/ical//2.0/EN
VERSION:2.0
CALSCALE:GREGORIAN
BEGIN:VEVENT
UID:9bae8439cbe9762f98ea7719b87b883b
DTSTAMP:20260423T003435Z
SUMMARY:Walk the Labyrinth Towards Shavuot
DESCRIPTION:Jewish Federation of the Berkshires\nBerkshire Jewish Community
  Calendar\nhttps://jewishberkshires.org/jewish-federation-of-the-berkshire
 s-calendar/walk-the-labyrinth-towards-shavuot-1680136194\n\nA labyrinth is
  an ancient spiritual tool designed to foster contemplation and spiritual 
 transformation. After a short study about labyrinths and the Jewish connec
 tion\, we will walk the outdoor labyrinth at Kripalu\, integrating it into
  our Omer journey towards Mount Sinai and the Shavuot holiday. No knowledg
 e of Judaism\, meditation\, or labyrinths is necessary to join us for this
  exploration.\n\nRabbi Pamela Wax has been walking labyrinths as a meditat
 ive practice for almost twenty years. Join ...
DTSTART;TZID=America/New_York:20230519T101500
DTEND;TZID=America/New_York:20230519T121500
END:VEVENT
END:VCALENDAR
