BEGIN:VCALENDAR
PRODID:-//eluceo/ical//2.0/EN
VERSION:2.0
CALSCALE:GREGORIAN
BEGIN:VEVENT
UID:28a3bd328b10c5a612043644c31b789e
DTSTAMP:20260421T152626Z
SUMMARY:Volunteer Training: Hate Has No Home Here
DESCRIPTION:Jewish Federation of the Berkshires\nBerkshire Jewish Community
  Calendar\nhttps://jewishberkshires.org/jewish-federation-of-the-berkshire
 s-calendar/volunteer-training-hate-no-here\n\nBecome a Community Volunteer
  to help amplify the Hate Has No Home Here campaign and build community
  allyship. Join us for an this training session to learn how you can get 
 involved. \n\nAntisemitism is not just a Jewish issue—it’s a challeng
 e to the values we all share. Each of us has a role to play in creating a 
 Berkshire County where every person can live\, work\, love\, and worship w
 ith dignity\, safety\, and respect.\n\nREGISTER HERE. Sessions will take 
 place at the Federation office...
DTSTART;TZID=America/New_York:20250806T173000
DTEND;TZID=America/New_York:20250806T183000
END:VEVENT
END:VCALENDAR
