BEGIN:VCALENDAR
PRODID:-//eluceo/ical//2.0/EN
VERSION:2.0
CALSCALE:GREGORIAN
BEGIN:VEVENT
UID:8491c13f57dbc4dc43e78bb1a7bba3b8
DTSTAMP:20260424T152626Z
SUMMARY:Virtually Limitless: Our Shared Shelf Monthly Book & Author Series
DESCRIPTION:Jewish Federation of the Berkshires\nBerkshire Jewish Community
  Calendar\nhttps://jewishberkshires.org/jewish-federation-of-the-berkshire
 s-calendar/virtually-limitless-our-shared-shelf-monthly-book-author-series
 ---------------------\n\nJoin Federation\, in collaboration with the JFNA 
 National Women's Philanthropy and the Jewish Book Council\, for this mont
 hly book and author series. Free and open to all women donors to the Feder
 ation\, at any level. Register here and you will receive invites to eac
 h monthly event. Purchase the book here and portion of the proceeds will
  be donated back to the local Bookstore in Lenox. Click here to see the 
 full calendar.\n\nThe Nesting Dolls with author Alina Adams on April 21
DTSTART;TZID=America/New_York:20210421T200000
DTEND;TZID=America/New_York:20210421T210000
END:VEVENT
END:VCALENDAR
