BEGIN:VCALENDAR
PRODID:-//eluceo/ical//2.0/EN
VERSION:2.0
CALSCALE:GREGORIAN
BEGIN:VEVENT
UID:d3349fa6210f94cceaa11957e2ef8f2a
DTSTAMP:20260419T180720Z
SUMMARY:Virtual Farewell for Susan Frisch Lehrer! Submit your well wishes
DESCRIPTION:Jewish Federation of the Berkshires\nBerkshire Jewish Community
  Calendar\nhttps://jewishberkshires.org/jewish-federation-of-the-berkshire
 s-calendar/virtual-farewell-for-susan-frisch-lehrer-submit-your-well-wishe
 s\n\nJoin Us For A Virtual Farwell in honor of \n\nSusan Frisch Lehrer's R
 etirement\n\n \n\nJanuary 12 at 7 pm\n\n\n\n\n\n\n\n\n\n\n\n\n\n\n\n\n\n\
 n\n\n\n\n\n\n\n\n\n\n\n\n \n\n\n\n\n\n\n\n\n\n\n\n\n\n\n\n\n\n\n\n\n\n\n\
 n\n\n\n\n\nRegister to receive the zo...
DTSTART;TZID=America/New_York:20220112T190000
DTEND;TZID=America/New_York:20220112T200000
END:VEVENT
END:VCALENDAR
