BEGIN:VCALENDAR
PRODID:-//eluceo/ical//2.0/EN
VERSION:2.0
CALSCALE:GREGORIAN
BEGIN:VEVENT
UID:bc30fed9f3da5e401b015b3f1cf04221
DTSTAMP:20260423T212245Z
SUMMARY:Vietnamese Cooking Class
DESCRIPTION:Jewish Federation of the Berkshires\nBerkshire Jewish Community
  Calendar\nhttps://jewishberkshires.org/jewish-federation-of-the-berkshire
 s-calendar/vietnamese-cooking-class-1741670829\n\nJWF is sponsoring a Viet
 namese cooking class at a member's home. Details TBA.
DTSTART;TZID=America/New_York:20250612T110000
DTEND;TZID=America/New_York:20250612T130000
END:VEVENT
END:VCALENDAR
