BEGIN:VCALENDAR
PRODID:-//eluceo/ical//2.0/EN
VERSION:2.0
CALSCALE:GREGORIAN
BEGIN:VEVENT
UID:6c020a0afb39d60a99c408638dfb3de2
DTSTAMP:20260423T080917Z
SUMMARY:Vichy France and the Jews
DESCRIPTION:Jewish Federation of the Berkshires\nBerkshire Jewish Community
  Calendar\nhttps://jewishberkshires.org/jewish-federation-of-the-berkshire
 s-calendar/vichy-france-and-the-jews-1523369522\n\nThe right-wing French r
 egime based in Vichy governed much of France following that country’s de
 feat by Germany in 1940. We will discuss the rise of official anti-semitis
 m in Vichy France\, where the authorities attempted to outdo the Germans i
 n their treatment of the Jews. We will\, at the same time\, strive to reco
 ncile this vicious treatment with the fact that French Jews survived at ma
 rkedly higher rates than Jews elsewhere in Europe. The discussion will be 
 led by Hevreh member Stu Schweitz...
DTSTART;TZID=America/New_York:20180719T160000
DTEND;TZID=America/New_York:20180719T173000
END:VEVENT
END:VCALENDAR
