BEGIN:VCALENDAR
PRODID:-//eluceo/ical//2.0/EN
VERSION:2.0
CALSCALE:GREGORIAN
BEGIN:VEVENT
UID:ca8e2f1249aac79cafb8510e884ad123
DTSTAMP:20260422T002904Z
SUMMARY:U.S. Immigration Stories Up-Close and Personal
DESCRIPTION:Jewish Federation of the Berkshires\nBerkshire Jewish Community
  Calendar\nhttps://jewishberkshires.org/jewish-federation-of-the-berkshire
 s-calendar/us-immigration-stories-up-close-and-personal\n\nVia Zoom\n\nReg
 ister Here\n\nWelcoming the “ger” (the stranger in our midst) and lovi
 ng one’s neighbor as oneself are inter-related imperatives of the Jewish
  faith.  Immigration narratives have long shaped both Jewish history and 
 the Jewish value of welcoming and defending “the immigrant”. \n\nSusa
 n Cohen\, leading immigration lawyer and author of the book Journeys From 
 There to Here:  Stories of Immigrant Trials\, Triumphs and Contributions\
 , and Maxine Stein\, President and CEO of ...
DTSTART;TZID=America/New_York:20220328T184500
DTEND;TZID=America/New_York:20220328T194500
END:VEVENT
END:VCALENDAR
