BEGIN:VCALENDAR
PRODID:-//eluceo/ical//2.0/EN
VERSION:2.0
CALSCALE:GREGORIAN
BEGIN:VEVENT
UID:9c017489faf361cd03d5f678a6dc3153
DTSTAMP:20260422T101315Z
SUMMARY:Uno Dos Tres Get Up and Dance with Sarah Aroeste
DESCRIPTION:Jewish Federation of the Berkshires\nBerkshire Jewish Community
  Calendar\nhttps://jewishberkshires.org/jewish-federation-of-the-berkshire
 s-calendar/uno-dos-tres-get-up-and-dance-with-sarah-aroeste\n\n
DTSTART;TZID=America/New_York:20250504T140000
DTEND;TZID=America/New_York:20250504T153000
END:VEVENT
END:VCALENDAR
