BEGIN:VCALENDAR
PRODID:-//eluceo/ical//2.0/EN
VERSION:2.0
CALSCALE:GREGORIAN
BEGIN:VEVENT
UID:b4168f5711717621b248161d05a71ba8
DTSTAMP:20260421T204724Z
SUMMARY:Two Who Dared
DESCRIPTION:Jewish Federation of the Berkshires\nBerkshire Jewish Community
  Calendar\nhttps://jewishberkshires.org/jewish-federation-of-the-berkshire
 s-calendar/two-who-dared\n\nTwo Who Dared
DTSTART;TZID=America/New_York:20140504T150000
DTEND;TZID=America/New_York:20140504T170000
END:VEVENT
END:VCALENDAR
