BEGIN:VCALENDAR
PRODID:-//eluceo/ical//2.0/EN
VERSION:2.0
CALSCALE:GREGORIAN
BEGIN:VEVENT
UID:b5b46fa4eb8331b3840eb3d020dde68a
DTSTAMP:20260421T192723Z
SUMMARY:Tubing with PJ Library!
DESCRIPTION:Jewish Federation of the Berkshires\nBerkshire Jewish Community
  Calendar\nhttps://jewishberkshires.org/jewish-federation-of-the-berkshire
 s-calendar/tubing-with-PJ\n\nCome Tubing with PJ Library and friends! \n\n
 Join us for tubing\, hot drinks\, snacks and stories in our private cabana
 !\n\nAges 5 -12- All children must be at least 42" tall to tube AND accomp
 anied by a registered adult\, parent or caregiver.\n$10 per parent/caregiv
 er\, children aged 12 and under are free.\nAdvanced paid registration REQU
 IRED.\n\nemail Molly Meador at  mmeador@jewishberkshires.org with any que
 stions
DTSTART;TZID=America/New_York:20240211T150000
DTEND;TZID=America/New_York:20240211T163000
END:VEVENT
END:VCALENDAR
