BEGIN:VCALENDAR
PRODID:-//eluceo/ical//2.0/EN
VERSION:2.0
CALSCALE:GREGORIAN
BEGIN:VEVENT
UID:13c42d0f5efb2214583fae6e881a1bb2
DTSTAMP:20260419T174034Z
SUMMARY:Tube-BeSh'vat!
DESCRIPTION:Jewish Federation of the Berkshires\nBerkshire Jewish Community
  Calendar\nhttps://jewishberkshires.org/jewish-federation-of-the-berkshire
 s-calendar/tube-beshvat\n\nTUBE-Be'Shevat\n\nNEW DATE AND TIME! Saturday J
 anuary 20th\n\n4:30-6:00pm\n\nThe snow is here\, and so is the fun! Join P
 J Library in celebrating the Jewish holiday of Tu B'shevat\, the birthday 
 of the trees\, with Havdalah and tubing!\n\nWe’ll have hot drinks\, holi
 day related snacks and stories in our own private cabana!\n\nAges 5 -12- A
 ll children must be at least 42" tall to tube AND accompanied by a registe
 red adult\, parent or caregiver.\n\n$10 per parent/caregiver\, and childre
 n 13+\n\nAdv...
DTSTART;TZID=America/New_York:20240120T163000
DTEND;TZID=America/New_York:20240120T180000
END:VEVENT
END:VCALENDAR
