BEGIN:VCALENDAR
PRODID:-//eluceo/ical//2.0/EN
VERSION:2.0
CALSCALE:GREGORIAN
BEGIN:VEVENT
UID:0b683c1a2a35ab6c5c44eb5d848ef082
DTSTAMP:20260421T100143Z
SUMMARY:Tu B' Shevat Open House and Seder Celebrating the "New Year of Tree
 s"
DESCRIPTION:Jewish Federation of the Berkshires\nBerkshire Jewish Community
  Calendar\nhttps://jewishberkshires.org/jewish-federation-of-the-berkshire
 s-calendar/tu-b-shevat-open-house-and-seder-celebrating-the-new-year-of-tr
 ees-1420652497\n\nThe community is invited to an Open House and a Seder se
 rvice celebrating the New Year of Trees.\n\nReligious School students will
  lead the service\,  followed by an Open House highlighting the Temple&#03
 9\;s Educational Programs.
DTSTART;TZID=America/New_York:20150206T173000
DTEND;TZID=America/New_York:20150206T193000
END:VEVENT
END:VCALENDAR
