BEGIN:VCALENDAR
PRODID:-//eluceo/ical//2.0/EN
VERSION:2.0
CALSCALE:GREGORIAN
BEGIN:VEVENT
UID:1d94a470fac8dc5955bf33fa31cf29f7
DTSTAMP:20260419T235221Z
SUMMARY:Tu B' Shevat and Shabbat Shira
DESCRIPTION:Jewish Federation of the Berkshires\nBerkshire Jewish Community
  Calendar\nhttps://jewishberkshires.org/jewish-federation-of-the-berkshire
 s-calendar/tu-b-shevat-and-shabbat-shira-1450201037\n\nCelebrate Tu B&#039
 \; Shevat with a family-friendly service full of music.  Dinner to follow 
 the service.
DTSTART;TZID=America/New_York:20160122T170000
DTEND;TZID=America/New_York:20160122T190000
END:VEVENT
END:VCALENDAR
