BEGIN:VCALENDAR
PRODID:-//eluceo/ical//2.0/EN
VERSION:2.0
CALSCALE:GREGORIAN
BEGIN:VEVENT
UID:d03a0f18ed726859d4b54328c0f5e4b8
DTSTAMP:20260425T135639Z
SUMMARY:True Colors: Stories from Jews of Color Exploring Identity and Comm
 unity
DESCRIPTION:Jewish Federation of the Berkshires\nBerkshire Jewish Community
  Calendar\nhttps://jewishberkshires.org/jewish-federation-of-the-berkshire
 s-calendar/true-colors\n\nREGISTER HERE. Please note this will be a 65 min
 ute Live Performance on Zoom show presented by actors from the Go-To Jewis
 h Story Company\, The Braid\, followed by a moderated Q&A by DEI Consultan
 t and Actor/Writer\, Joshua Silverstein.\n\nHumorous\, revealing\, and ins
 piring stories from Jews of Color exploring identity\, community and being
  a Jew in modern times.\n\nWhile all people face challenges and struggles\
 , Jews of Color have many touching and unique stories to tell about resili
 ence\, self-r...
DTSTART;TZID=America/New_York:20230123T184500
DTEND;TZID=America/New_York:20230123T201500
END:VEVENT
END:VCALENDAR
