BEGIN:VCALENDAR
PRODID:-//eluceo/ical//2.0/EN
VERSION:2.0
CALSCALE:GREGORIAN
BEGIN:VEVENT
UID:d1eff876fb9f83b938922366e68f04fa
DTSTAMP:20260419T203544Z
SUMMARY:“Tree of Life” Paper Mosaic Workshop
DESCRIPTION:Jewish Federation of the Berkshires\nBerkshire Jewish Community
  Calendar\nhttps://jewishberkshires.org/jewish-federation-of-the-berkshire
 s-calendar/tree-of-life-paper-mosaic-workshop\n\nMosaic Muralist Mia Schon
  for this paper mosaic workshop
DTSTART;TZID=America/New_York:20200611T104500
DTEND;TZID=America/New_York:20200611T120000
END:VEVENT
END:VCALENDAR
