BEGIN:VCALENDAR
PRODID:-//eluceo/ical//2.0/EN
VERSION:2.0
CALSCALE:GREGORIAN
BEGIN:VEVENT
UID:b83e6f5462c7b273759d69478d6a2718
DTSTAMP:20260419T222931Z
SUMMARY:"Paper Clips" with Travel Show Host Stephanie Abrams
DESCRIPTION:Jewish Federation of the Berkshires\nBerkshire Jewish Community
  Calendar\nhttps://jewishberkshires.org/jewish-federation-of-the-berkshire
 s-calendar/travel-show-host-stephanie-abrams\n\nThe Jewish Federation Conn
 ecting with Community program welcomes Stephanie Abrams\, executive produc
 er & host of the nationally syndicated radio travel shows "Travel WITH Ste
 paine Abrams!" and "Travelers411."
DTSTART;TZID=America/New_York:20160414T104500
DTEND;TZID=America/New_York:20160414T120000
END:VEVENT
END:VCALENDAR
