BEGIN:VCALENDAR
PRODID:-//eluceo/ical//2.0/EN
VERSION:2.0
CALSCALE:GREGORIAN
BEGIN:VEVENT
UID:81314b0ec1f337a5f495eb954a3d6393
DTSTAMP:20260421T222942Z
SUMMARY:Traces of a Jewish Artist\, with Kerry Wallach
DESCRIPTION:Jewish Federation of the Berkshires\nBerkshire Jewish Community
  Calendar\nhttps://jewishberkshires.org/jewish-federation-of-the-berkshire
 s-calendar/traces-of-a-jewish-artist-with-kerry-wallach-1709757625\n\nGrap
 hic artist\, illustrator\, painter\, and cartoonist Rahel Szalit (1888–1
 942) was among the best-known Jewish women artists in Weimar Berlin for he
 r soulful\, sometimes humorous illustrations of Jewish and world literatur
 e. But after she was murdered in the Holocaust\, she was all but lost to h
 istory\, and most of her paintings have been destroyed or gone missing. In
  this free virtual talk\, Kerry Wallach will focus on the process of redis
 covering Szalit and offer a close look at her art.\n\nTo...
DTSTART;TZID=America/New_York:20240530T190000
DTEND;TZID=America/New_York:20240530T210000
END:VEVENT
END:VCALENDAR
