BEGIN:VCALENDAR
PRODID:-//eluceo/ical//2.0/EN
VERSION:2.0
CALSCALE:GREGORIAN
BEGIN:VEVENT
UID:4db5f57985dd2cdefdb098404274395b
DTSTAMP:20260422T032003Z
SUMMARY:Tot Shabbat on the Town
DESCRIPTION:Jewish Federation of the Berkshires\nBerkshire Jewish Community
  Calendar\nhttps://jewishberkshires.org/jewish-federation-of-the-berkshire
 s-calendar/tot-shabbat-on-the-town-1554830505\n\nHevreh’s Tot Shabbat is
  hitting the road and setting up tables at Great Barrington’s beloved ch
 ildren’s summer event\, David Grover singng at the Bandstand behind Town
  Hall on Main Steet in Great Barrington. Look for Hevreh’s table decorat
 ed with blue and white balloons. Join us at 9:30am for singing and dancing
 \, and a special Shabbat breakfast treat. Then stay to enjoy the concert w
 ith David Grover starting at 10am.
DTSTART;TZID=America/New_York:20190810T093000
DTEND;TZID=America/New_York:20190810T113000
END:VEVENT
END:VCALENDAR
