BEGIN:VCALENDAR
PRODID:-//eluceo/ical//2.0/EN
VERSION:2.0
CALSCALE:GREGORIAN
BEGIN:VEVENT
UID:d1262909396c5120066ad739607a378a
DTSTAMP:20260420T031119Z
SUMMARY:Tot Shabbat at Hevreh
DESCRIPTION:Jewish Federation of the Berkshires\nBerkshire Jewish Community
  Calendar\nhttps://jewishberkshires.org/jewish-federation-of-the-berkshire
 s-calendar/tot-shabbat-at-hevreh-1744911677\n\nJoin us for Tot Shabbat at 
 Hevreh with our Tot Shabbat friend and musician\, Jeff Howard. Jeff will h
 elp us sing and dance our way into Shabbat together with snack\, stories a
 nd song. This event is open to all and is most appropriate for children ag
 es 0-5.\nFor more information visit hevreh.org or call the office at (413)
  528-6378.
DTSTART;TZID=America/New_York:20250607T090000
DTEND;TZID=America/New_York:20250607T100000
END:VEVENT
END:VCALENDAR
