BEGIN:VCALENDAR
PRODID:-//eluceo/ical//2.0/EN
VERSION:2.0
CALSCALE:GREGORIAN
BEGIN:VEVENT
UID:0a83e1cd064bcefc8ac608ac7e3f892f
DTSTAMP:20260424T013026Z
SUMMARY:Tot Shabbat at Hevreh
DESCRIPTION:Jewish Federation of the Berkshires\nBerkshire Jewish Community
  Calendar\nhttps://jewishberkshires.org/jewish-federation-of-the-berkshire
 s-calendar/tot-shabbat-at-hevreh-1708015504\n\nRabbi Jodie Gordon and musi
 cian Jeff Howard bring songs\, stories and fun to very young children (age
 s 0-5) for Shabbat. All families are welcome\, this service is free and op
 en to the public.
DTSTART;TZID=America/New_York:20240316T090000
DTEND;TZID=America/New_York:20240316T100000
END:VEVENT
END:VCALENDAR
