BEGIN:VCALENDAR
PRODID:-//eluceo/ical//2.0/EN
VERSION:2.0
CALSCALE:GREGORIAN
BEGIN:VEVENT
UID:2e9a6565e1fc63cad2c40d5f9b6b225f
DTSTAMP:20260423T050943Z
SUMMARY:Torah Plus: Exploring Jewish Text and Culture
DESCRIPTION:Jewish Federation of the Berkshires\nBerkshire Jewish Community
  Calendar\nhttps://jewishberkshires.org/jewish-federation-of-the-berkshire
 s-calendar/torah-plus-exploring-jewish-text-and-culture-1427896954\n\nJoin
  Rabbi Josh Breindel for a conversation based on the texts of the Jewish p
 eople.  Starting with a discussion of traditional sources (ranging from th
 e Torah to Rabbinic writings)\, we’ll reflect on the eternally relevant 
 question: what does it mean to be Jewish?  All texts will be offered in En
 glish.  All are welcome\; bring your curiosity and your insights! 
DTSTART;TZID=America/New_York:20150606T093000
DTEND;TZID=America/New_York:20150606T104500
END:VEVENT
END:VCALENDAR
