BEGIN:VCALENDAR
PRODID:-//eluceo/ical//2.0/EN
VERSION:2.0
CALSCALE:GREGORIAN
BEGIN:VEVENT
UID:66532aa29acadf9a07cbdc77d7c5a5ce
DTSTAMP:20260423T010338Z
SUMMARY:Torah in the Tarot: Hidden Secrets of the Crypto-Jews
DESCRIPTION:Jewish Federation of the Berkshires\nBerkshire Jewish Community
  Calendar\nhttps://jewishberkshires.org/jewish-federation-of-the-berkshire
 s-calendar/torah-in-the-tarot-hidden-secrets-of-the-crypto-jews\n\nRegiste
 r HERE.\n\nDid Crypto-Jews Use Tarot Cards as a Secret Tool for Jewish Edu
 cation?\n\nIn this conversation moderated by Laura Mandel\, Director of th
 e Boston Jewish Arts Collaborative (JArts)\, Torah scholar Stav Appel and 
 Berkshire artist Jonathan Prince examine the Tarot anew through a Judaic l
 ens of understanding\, to reveal its images as secret vessels for Hebrew l
 etters\, Judaic ritual objects\, Jewish Holy Days\, and legends of Torah.\
 n\nThe mesmerizing cards\, masterpieces of cryptograp...
DTSTART;TZID=America/New_York:20230811T104500
DTEND;TZID=America/New_York:20230811T120000
END:VEVENT
END:VCALENDAR
