BEGIN:VCALENDAR
PRODID:-//eluceo/ical//2.0/EN
VERSION:2.0
CALSCALE:GREGORIAN
BEGIN:VEVENT
UID:9561d31982725c5f460349e031604d9f
DTSTAMP:20260424T040136Z
SUMMARY:Torah and Tea  with Sara Volovik
DESCRIPTION:Jewish Federation of the Berkshires\nBerkshire Jewish Community
  Calendar\nhttps://jewishberkshires.org/jewish-federation-of-the-berkshire
 s-calendar/torah-and-tea--with-sara-volovik-1415898429\n\nTorah and Tea wi
 th Sara Volovik\nA Torah study group for woman!\nJoin together with fellow
  Jewish woman in the Berkshires for inspiring Torah study\, warm camarader
 ie\, hot tea and delicious refreshments!\nPlease RSVP to Saravolovik@gmail
 .com
DTSTART;TZID=America/New_York:20141203T123000
DTEND;TZID=America/New_York:20141203T133000
END:VEVENT
END:VCALENDAR
