BEGIN:VCALENDAR
PRODID:-//eluceo/ical//2.0/EN
VERSION:2.0
CALSCALE:GREGORIAN
BEGIN:VEVENT
UID:6b48861cbf820d6f27f66e2ef0cc25df
DTSTAMP:20260419T123648Z
SUMMARY:Torah and Dharma: Exploring Connections Between Judaism and Buddhis
 m
DESCRIPTION:Jewish Federation of the Berkshires\nBerkshire Jewish Community
  Calendar\nhttps://jewishberkshires.org/jewish-federation-of-the-berkshire
 s-calendar/torah-and-dharma-exploring-connections-between-judaism-and-budd
 hism-1524238918\n\nLocation: CBI\, 53 Lois Street\, North Adams\, MA\nFurt
 her information: 413.663.5830
DTSTART;TZID=America/New_York:20180508T190000
DTEND;TZID=America/New_York:20180508T210000
END:VEVENT
END:VCALENDAR
