BEGIN:VCALENDAR
PRODID:-//eluceo/ical//2.0/EN
VERSION:2.0
CALSCALE:GREGORIAN
BEGIN:VEVENT
UID:9c1c191fbcd08fa88de50c68a77cbf50
DTSTAMP:20260420T111620Z
SUMMARY:Today's Supreme Court with Linda Greenhouse
DESCRIPTION:Jewish Federation of the Berkshires\nBerkshire Jewish Community
  Calendar\nhttps://jewishberkshires.org/jewish-federation-of-the-berkshire
 s-calendar/todays-supreme-court-with-linda-greenhouse\n\nKnosh & Knowledge
  Today's Supreme Court with Linda Greenhouse
DTSTART;TZID=America/New_York:20190712T104500
DTEND;TZID=America/New_York:20190712T120000
END:VEVENT
END:VCALENDAR
