BEGIN:VCALENDAR
PRODID:-//eluceo/ical//2.0/EN
VERSION:2.0
CALSCALE:GREGORIAN
BEGIN:VEVENT
UID:f8d34756df2fbba68a39e8ca1a8a74ce
DTSTAMP:20260423T212808Z
SUMMARY:“To Till & To Tend” Jewish Environmental Ethics
DESCRIPTION:Jewish Federation of the Berkshires\nBerkshire Jewish Community
  Calendar\nhttps://jewishberkshires.org/jewish-federation-of-the-berkshire
 s-calendar/to-till-to-tend-jewish-environmental-ethics\n\nJewish Environme
 ntal Ethics around Food Production and Consumption
DTSTART;TZID=America/New_York:20210614T184500
DTEND;TZID=America/New_York:20210614T194500
END:VEVENT
END:VCALENDAR
