BEGIN:VCALENDAR
PRODID:-//eluceo/ical//2.0/EN
VERSION:2.0
CALSCALE:GREGORIAN
BEGIN:VEVENT
UID:ed6fce3451f49fd6ed53ec43b3c75077
DTSTAMP:20260419T203843Z
SUMMARY:Tisch Shabbat at Hevreh: Stories from your Bubbe's Kitchen!
DESCRIPTION:Jewish Federation of the Berkshires\nBerkshire Jewish Community
  Calendar\nhttps://jewishberkshires.org/jewish-federation-of-the-berkshire
 s-calendar/tisch-shabbat-at-hevreh-stories-from-your-bubbes-kitchen-148674
 0661\n\nEach year we are reminded of the power of a communal table\, and o
 f the learning\, sharing\, and love that can be shared when a group of peo
 ple sit together. 
DTSTART;TZID=America/New_York:20170303T180000
DTEND;TZID=America/New_York:20170303T190000
END:VEVENT
END:VCALENDAR
