BEGIN:VCALENDAR
PRODID:-//eluceo/ical//2.0/EN
VERSION:2.0
CALSCALE:GREGORIAN
BEGIN:VEVENT
UID:ae88cb64005f11e0c477fac42143f9a8
DTSTAMP:20260422T050929Z
SUMMARY:Through the Eye of the Needle - The Art of Esther Nisenthal Krinitz
DESCRIPTION:Jewish Federation of the Berkshires\nBerkshire Jewish Community
  Calendar\nhttps://jewishberkshires.org/jewish-federation-of-the-berkshire
 s-calendar/through-the-eye-of-the-needle-the-art-of-esther-nisenthal-krini
 tz\n\nThe Jewish Federation Connecting with Community hosts Helene McQuade
  for a screening of a short film about her mother titled Through the Eye o
 f the Needle - The Art of Esther Nisenthal Krinitz.
DTSTART;TZID=America/New_York:20170824T104500
DTEND;TZID=America/New_York:20170824T120000
END:VEVENT
END:VCALENDAR
