BEGIN:VCALENDAR
PRODID:-//eluceo/ical//2.0/EN
VERSION:2.0
CALSCALE:GREGORIAN
BEGIN:VEVENT
UID:12aa6d82e5c9b705b9e2884e5d0d0767
DTSTAMP:20260421T122438Z
SUMMARY:This American Jewish Life #2
DESCRIPTION:Jewish Federation of the Berkshires\nBerkshire Jewish Community
  Calendar\nhttps://jewishberkshires.org/jewish-federation-of-the-berkshire
 s-calendar/this-american-jewish-life-2-1733782182\n\nIn this highly intera
 ctive and participatory 4-part mini-course taught by Hal Lewis\, some of t
 he key trends and patterns that have informed American Jewish life since t
 he late 19th century will be discussed. Particular focus will be given to 
 developments affecting American Jews since the turn of the 21st century\, 
 including changes in affiliation\, philanthropy\, gender issues\, relation
 ship with Israel\, and related matters.\n\nHal Lewis is the Principal Cons
 ultant at Leadership for Impact LLC\, a...
DTSTART;TZID=America/New_York:20250305T104500
DTEND;TZID=America/New_York:20250305T120000
END:VEVENT
END:VCALENDAR
