BEGIN:VCALENDAR
PRODID:-//eluceo/ical//2.0/EN
VERSION:2.0
CALSCALE:GREGORIAN
BEGIN:VEVENT
UID:0660dd6b23126ca5f6891d6680538506
DTSTAMP:20260422T105028Z
SUMMARY:This American Jewish Life #1
DESCRIPTION:Jewish Federation of the Berkshires\nBerkshire Jewish Community
  Calendar\nhttps://jewishberkshires.org/jewish-federation-of-the-berkshire
 s-calendar/this-american-jewish-life-1-1733782087\n\nIn this highly intera
 ctive and participatory 4-part mini-course taught by Hal Lewis\, some of t
 he key trends and patterns that have informed American Jewish life since t
 he late 19th century will be discussed. Particular focus will be given to 
 developments affecting American Jews since the turn of the 21st century\, 
 including changes in affiliation\, philanthropy\, gender issues\, relation
 ship with Israel\, and related matters.\n\nHal Lewis is the Principal Cons
 ultant at Leadership for Impact LLC\, a...
DTSTART;TZID=America/New_York:20250226T104500
DTEND;TZID=America/New_York:20250226T120000
END:VEVENT
END:VCALENDAR
