BEGIN:VCALENDAR
PRODID:-//eluceo/ical//2.0/EN
VERSION:2.0
CALSCALE:GREGORIAN
BEGIN:VEVENT
UID:2a8c963a7ecde87eccf32d6b7767f3b1
DTSTAMP:20260421T010535Z
SUMMARY:"There Are Jews Here"
DESCRIPTION:Jewish Federation of the Berkshires\nBerkshire Jewish Community
  Calendar\nhttps://jewishberkshires.org/jewish-federation-of-the-berkshire
 s-calendar/there-are-jews-here-1478877070\n\nMore than one million America
 n Jews live in once-thriving small towns that have seen better days. "Ther
 e Are Jews Here" tells the stories of the people working to keep the Jewis
 h spirit alive in places such as Butte\, Montana\; Laredo\, Texas\; Dothan
 \, Alabama\; and Latrobe\, Pennsylvania\, exploring themes of faith and co
 mmunity and looking at what Jews are doing to keep their communities alive
  and ensure their legacies are not lost.
DTSTART;TZID=America/New_York:20170312T140000
DTEND;TZID=America/New_York:20170312T153000
END:VEVENT
END:VCALENDAR
