BEGIN:VCALENDAR
PRODID:-//eluceo/ical//2.0/EN
VERSION:2.0
CALSCALE:GREGORIAN
BEGIN:VEVENT
UID:8ab93fea9251ecd71f891c901a8107c8
DTSTAMP:20260423T060838Z
SUMMARY:Theater Party\, "Sotto Voce" with Annette Miller
DESCRIPTION:Jewish Federation of the Berkshires\nBerkshire Jewish Community
  Calendar\nhttps://jewishberkshires.org/jewish-federation-of-the-berkshire
 s-calendar/theater-party-sotto-voce-with-annette-miller-1468414835\n\nThea
 ter Party\, "Sotto Voce" with Annette Miller Performance and talk back wit
 h actors\nDessert Reception 8:30\n\nTickets at reduced rate of $36
DTSTART;TZID=America/New_York:20160831T190000
DTEND;TZID=America/New_York:20160831T213000
END:VEVENT
END:VCALENDAR
