BEGIN:VCALENDAR
PRODID:-//eluceo/ical//2.0/EN
VERSION:2.0
CALSCALE:GREGORIAN
BEGIN:VEVENT
UID:2d97b369b6edc7c205908bd2b1e7c0e2
DTSTAMP:20260423T023053Z
SUMMARY:The Zionists: A Family Storm Talk-Back
DESCRIPTION:Jewish Federation of the Berkshires\nBerkshire Jewish Community
  Calendar\nhttps://jewishberkshires.org/jewish-federation-of-the-berkshire
 s-calendar/the-zionists-a-family-storm\n\nThe Zionists: A Family Storm Tal
 k-Back:Relationships\, Identity\, Jewish Stories\n\nJoin us for a panel di
 scussion talk-back centered on Barrington Stage’s production of the worl
 d premiere play The Zionists: A Family Storm. Together we will explore t
 he complexity of Jewish identity\, family dynamics\, and the challenges an
 d opportunities of portraying Jewish themes authentically on stage. This e
 vent is presented by BSC in collaboration with the Jewish Federation of th
 e Berkshires. \n\nRegist...
DTSTART;TZID=America/New_York:20260630T110000
DTEND;TZID=America/New_York:20260630T121500
END:VEVENT
END:VCALENDAR
