BEGIN:VCALENDAR
PRODID:-//eluceo/ical//2.0/EN
VERSION:2.0
CALSCALE:GREGORIAN
BEGIN:VEVENT
UID:509a1c850174a0ed7243ce137ff0c937
DTSTAMP:20260423T005601Z
SUMMARY:The World Needs Beautiful Things - Havdalah and Family Program
DESCRIPTION:Jewish Federation of the Berkshires\nBerkshire Jewish Community
  Calendar\nhttps://jewishberkshires.org/jewish-federation-of-the-berkshire
 s-calendar/the-world-needs-beautiful-things---havdalah-and-family-program-
 1561578980\n\nFamily program to include a nature walk in Hevreh's backyard
  with Rabbi Leah Rachel Berkowitz\, later reading her PJ Library book\, "T
 he World Needs Beautiful Things\,"  hands-on craft activities\, Havdalah\,
  and Shabbat treats.
DTSTART;TZID=America/New_York:20190720T160000
DTEND;TZID=America/New_York:20190720T173000
END:VEVENT
END:VCALENDAR
