BEGIN:VCALENDAR
PRODID:-//eluceo/ical//2.0/EN
VERSION:2.0
CALSCALE:GREGORIAN
BEGIN:VEVENT
UID:a8b2791ae7f4e01460ca22932144076e
DTSTAMP:20260423T031505Z
SUMMARY:The Workshop Artist Salon: Probing Collective Memory and Hybridity
DESCRIPTION:Jewish Federation of the Berkshires\nBerkshire Jewish Community
  Calendar\nhttps://jewishberkshires.org/jewish-federation-of-the-berkshire
 s-calendar/the-workshop-artist-salon\n\nRegister for tickets here. Ticket
 s are FREE to the public and are GENERAL SEATING.  There are limited seat
 s and we anticipate they will be gone quickly.\n\nJoin members of The Work
 shop for a salon presentation showcasing 3 cutting edge artistic works-in 
 program that probe the intersections of race\, religion\, identity and sac
 red text through music\, storytelling and film.  The Workshop is North Am
 erica's first arts fellowship centering the work of JOCISM (Jews of Color\
 , Jewish-Indigenous\, Se...
DTSTART;TZID=America/New_York:20230709T163000
DTEND;TZID=America/New_York:20230709T180000
END:VEVENT
END:VCALENDAR
