BEGIN:VCALENDAR
PRODID:-//eluceo/ical//2.0/EN
VERSION:2.0
CALSCALE:GREGORIAN
BEGIN:VEVENT
UID:e2a3ece1848f86fdac0f46dd26be830d
DTSTAMP:20260424T135655Z
SUMMARY:"The Venice Ghetto\, 500 Years of Life"
DESCRIPTION:Jewish Federation of the Berkshires\nBerkshire Jewish Community
  Calendar\nhttps://jewishberkshires.org/jewish-federation-of-the-berkshire
 s-calendar/the-venice-ghetto-500-years-of-life-1478876698\n\nThrough a cre
 ative blend of documentary\, drama\, and animation\, "The Venice Ghetto" t
 ells the story of the oldest ghetto in Europe (which marks its 500th anniv
 ersary this year) and of Venice’s Jewish community\, seen through the ey
 es of a Jewish teenager from New York visiting family in the city.
DTSTART;TZID=America/New_York:20170212T140000
DTEND;TZID=America/New_York:20170212T153000
END:VEVENT
END:VCALENDAR
