BEGIN:VCALENDAR
PRODID:-//eluceo/ical//2.0/EN
VERSION:2.0
CALSCALE:GREGORIAN
BEGIN:VEVENT
UID:978aa972f44b6a8724ba409cbf823076
DTSTAMP:20260419T145400Z
SUMMARY:"The Trial of Aaron"
DESCRIPTION:Jewish Federation of the Berkshires\nBerkshire Jewish Community
  Calendar\nhttps://jewishberkshires.org/jewish-federation-of-the-berkshire
 s-calendar/the-trial-of-aaron-1426605230\n\nOne-act play where Aaron is ac
 cused of violating the Ten Commandments by constructing the Golden Calf.  
 Join us for the play\, rendering of the jury verdict\, reception and talk-
 back.
DTSTART;TZID=America/New_York:20151018T140000
DTEND;TZID=America/New_York:20151018T160000
END:VEVENT
END:VCALENDAR
