BEGIN:VCALENDAR
PRODID:-//eluceo/ical//2.0/EN
VERSION:2.0
CALSCALE:GREGORIAN
BEGIN:VEVENT
UID:c3a7a83d4e361ac6d4df97757432d67f
DTSTAMP:20260423T212746Z
SUMMARY:The Tao of Judaism with Dr. Joel Friedman
DESCRIPTION:Jewish Federation of the Berkshires\nBerkshire Jewish Community
  Calendar\nhttps://jewishberkshires.org/jewish-federation-of-the-berkshire
 s-calendar/the-tao-of-judaism-with-dr-joel-friedman\n\nPlease note:  Proo
 f of vaccination for those eligible is required.  Masks are optional but 
 encouraged.\n\nThe prime directive in Judaism is to be holy because the Di
 vine is holy. This directive implies that we are called upon to emulate th
 e Divine. In two sessions (the first was held on Thursday\, August 4)\, D
 r. Joel Friedman will explore strategies for achieving this objective thro
 ugh a participatory series of Tai Chi-type movements\, lectures\, and liv
 ely discussion. The sessions will draw...
DTSTART;TZID=America/New_York:20220811T104500
DTEND;TZID=America/New_York:20220811T120000
END:VEVENT
END:VCALENDAR
