BEGIN:VCALENDAR
PRODID:-//eluceo/ical//2.0/EN
VERSION:2.0
CALSCALE:GREGORIAN
BEGIN:VEVENT
UID:fc695538185c127119b0ef6dc9cf4751
DTSTAMP:20260419T174521Z
SUMMARY:"The Sturgeon Queens" film screening at Triplex Theater
DESCRIPTION:Jewish Federation of the Berkshires\nBerkshire Jewish Community
  Calendar\nhttps://jewishberkshires.org/jewish-federation-of-the-berkshire
 s-calendar/the-sturgeon-queens-film-screening-at-triplex-theater-143637437
 5\n\nMention the name "Russ and Daughters" and the mouth of any native New
  Yorker will start to water. This engaging and heartwarming documentary lo
 oks at the history of this beloved Lower East Side institution. Advance ti
 ckets are on sale at Hevreh\, $10 per person. Limited seating\, advanced t
 ickets are recommended.
DTSTART;TZID=America/New_York:20150823T110000
DTEND;TZID=America/New_York:20150823T130000
END:VEVENT
END:VCALENDAR
