BEGIN:VCALENDAR
PRODID:-//eluceo/ical//2.0/EN
VERSION:2.0
CALSCALE:GREGORIAN
BEGIN:VEVENT
UID:7beb42c470c0aba3ca17981e307f5103
DTSTAMP:20260422T064420Z
SUMMARY:The Shtetl Kitchen
DESCRIPTION:Jewish Federation of the Berkshires\nBerkshire Jewish Community
  Calendar\nhttps://jewishberkshires.org/jewish-federation-of-the-berkshire
 s-calendar/the-shtetl-kitchen---\n\nJoin Liz Alpern and Jeffrey Yoskowitz\
 , co-authors of the critically acclaimed The Gefilte Manifesto: New Recipe
 s for Old World Jewish Foods and co-owners of The Gefilteria\, a food vent
 ure that’s been reimagining Old World Jewish Foods since 2012.
DTSTART;TZID=America/New_York:20201019T184500
DTEND;TZID=America/New_York:20201019T194500
END:VEVENT
END:VCALENDAR
