BEGIN:VCALENDAR
PRODID:-//eluceo/ical//2.0/EN
VERSION:2.0
CALSCALE:GREGORIAN
BEGIN:VEVENT
UID:7508bba9d73556bc9dd95f14b127eea6
DTSTAMP:20260422T182756Z
SUMMARY:The Settlers
DESCRIPTION:Jewish Federation of the Berkshires\nBerkshire Jewish Community
  Calendar\nhttps://jewishberkshires.org/jewish-federation-of-the-berkshire
 s-calendar/the-settlers-1504797051\n\nOn Sunday\, October 29th at 7:30 p.m
 .\, immediately following the 7:00 p.m. Minyan\, there will be a film show
 ing in the Esther and William Lipton Israel Library at Knesset Israel.\n\n
  \n\nTHE SETTLERS\nDirected by Shimon Dotan\n\nDiscussion led by Rabbi Da
 vid Weiner\nLight refreshments\n\nA provocative documentary chronicling th
 e beginning of the settler movement in 1967 with the ideas and religious z
 eal that fueled it and continues to the present politically extreme leader
 ship. Film-maker Shi...
DTSTART;TZID=America/New_York:20171029T193000
DTEND;TZID=America/New_York:20171029T213000
END:VEVENT
END:VCALENDAR
