BEGIN:VCALENDAR
PRODID:-//eluceo/ical//2.0/EN
VERSION:2.0
CALSCALE:GREGORIAN
BEGIN:VEVENT
UID:c0cd10952871f506acfe8ce07bba93d4
DTSTAMP:20260422T192446Z
SUMMARY:The Sculptor of Jewish Souls: Janusz Korczak
DESCRIPTION:Jewish Federation of the Berkshires\nBerkshire Jewish Community
  Calendar\nhttps://jewishberkshires.org/jewish-federation-of-the-berkshire
 s-calendar/the-sculptor-of-jewish-souls-janusz-korczak\n\nJanusz Korczak's
  legacy through first hand interviews 
DTSTART;TZID=America/New_York:20200910T184500
DTEND;TZID=America/New_York:20200910T194500
END:VEVENT
END:VCALENDAR
