BEGIN:VCALENDAR
PRODID:-//eluceo/ical//2.0/EN
VERSION:2.0
CALSCALE:GREGORIAN
BEGIN:VEVENT
UID:127f80d1467db6d439aa8cc118612fe7
DTSTAMP:20260422T233557Z
SUMMARY:The Sassoons: The Great Global Merchants and the Making of an Empir
 e
DESCRIPTION:Jewish Federation of the Berkshires\nBerkshire Jewish Community
  Calendar\nhttps://jewishberkshires.org/jewish-federation-of-the-berkshire
 s-calendar/the-sassoons-the-great-global-merchants-and-the-making-of-an-em
 pire\n\nVia Zoom.  Register HERE.\n\nJewish Literary Voices: A Jewish Fed
 eration of the Berkshires Series in collaboration with Jewish Book Council
 \n\nA spectacular generational saga of the making (and undoing) of a famil
 y dynasty\; the riveting untold story of the gilded Jewish Baghdadi Sassoo
 ns who built a vast empire through global finance and trade—cotton\, opi
 um\, shipping\, banking—that reached across three continents and ultimat
 ely changed the destinies of nations.  They were one of the rich...
DTSTART;TZID=America/New_York:20230928T190000
DTEND;TZID=America/New_York:20230928T200000
END:VEVENT
END:VCALENDAR
