BEGIN:VCALENDAR
PRODID:-//eluceo/ical//2.0/EN
VERSION:2.0
CALSCALE:GREGORIAN
BEGIN:VEVENT
UID:6ed12c15aaee57025616e4e0407aa865
DTSTAMP:20260422T195730Z
SUMMARY:The Red Hotel: Tribute to a Lost World
DESCRIPTION:Jewish Federation of the Berkshires\nBerkshire Jewish Community
  Calendar\nhttps://jewishberkshires.org/jewish-federation-of-the-berkshire
 s-calendar/the-red-hotel-tribute-to-a-lost-world\n\nJoin Lita Moses and he
 r son\, historian Daniel Moses\, for a fascinating discussion of Lita's li
 fe growing up at the Arrowhead Lodge in the Catskills. The Red Hotel: Tri
 bute to a Lost World is a fascinating and unusual memoir\, the work of a 
 lifetime that strikes a particular chord today. It's a glimpse into life a
 t The Arrowhead Lodge\, a left-wing "Borsht Belt" hotel\, in the 1940's an
 d 50's\, through the eyes of the daughter of the hotel proprietor. It's th
 e story of The Slutsky family\, immigr...
DTSTART;TZID=America/New_York:20260625T104500
DTEND;TZID=America/New_York:20260625T120000
END:VEVENT
END:VCALENDAR
