BEGIN:VCALENDAR
PRODID:-//eluceo/ical//2.0/EN
VERSION:2.0
CALSCALE:GREGORIAN
BEGIN:VEVENT
UID:14ec441ee2170440a243e0cb47e7a925
DTSTAMP:20260423T010301Z
SUMMARY:The Race to Save Sephardi Jewish Heritage
DESCRIPTION:Jewish Federation of the Berkshires\nBerkshire Jewish Community
  Calendar\nhttps://jewishberkshires.org/jewish-federation-of-the-berkshire
 s-calendar/the-race-to-save-sephardi-jewish-heritage\n\nThe Jewish Federat
 ion of the Berkshires presents:\nKnosh & Knowledge\nThe Race to Save Sepha
 rdi Jewish Heritage in the Middle East and North Africa\n\nFrom synagogues
  on the edge of the Sahara to Jewish fortresses in Arabia\, Jason Guberman
 \, Executive Director of the American Sephardi Federation\, shares the beh
 ind-the-scenes story of how a diverse international team of volunteers is 
 racing against time to document the sites and memories of the last generat
 ion who remember Sephardic Jewish life...
DTSTART;TZID=America/New_York:20190809T104500
DTEND;TZID=America/New_York:20190809T120000
END:VEVENT
END:VCALENDAR
