BEGIN:VCALENDAR
PRODID:-//eluceo/ical//2.0/EN
VERSION:2.0
CALSCALE:GREGORIAN
BEGIN:VEVENT
UID:23b29a97f2f2ae51d8ee7e77aeb806b3
DTSTAMP:20260424T030158Z
SUMMARY:The Poetry of Yehuda Amichai (Session 6)
DESCRIPTION:Jewish Federation of the Berkshires\nBerkshire Jewish Community
  Calendar\nhttps://jewishberkshires.org/jewish-federation-of-the-berkshire
 s-calendar/the-poetry-of-yehuda-amichai-session-6-1745948683\n\nOver the c
 ourse of six sessions\, poet and Rabbi Pam Wax will introduce the poetry o
 f Yehuda Amichai for contemplation and conversation. Each session will be 
 devoted to one or more themes that Amichai addressed in his poetry\, inclu
 ding: War and Peace\; Memory/Parents\; the Jewish Bible\; Prayer\, God\, J
 ewish ritual\; Jerusalem\; Love and sex. Though the poems will be read and
  discussed in English\, the issue of translation will necessarily be addre
 ssed. Poems will be available in Hebrew for those who requ...
DTSTART;TZID=America/New_York:20250813T100000
DTEND;TZID=America/New_York:20250813T111500
END:VEVENT
END:VCALENDAR
