BEGIN:VCALENDAR
PRODID:-//eluceo/ical//2.0/EN
VERSION:2.0
CALSCALE:GREGORIAN
BEGIN:VEVENT
UID:5fa7f126983558c7cea7ca76cc8db961
DTSTAMP:20260421T141027Z
SUMMARY:The New Jew: Screening and Creators’ Talkback
DESCRIPTION:Jewish Federation of the Berkshires\nBerkshire Jewish Community
  Calendar\nhttps://jewishberkshires.org/jewish-federation-of-the-berkshire
 s-calendar/the-new-jew-screening-and-creators-talkback\n\nEver wonder how 
 Israelis perceive American Jews?\n\nRegister Here\n\nThe New Jew is a four
 -episode Israeli TV documentary\, showcasing the cultural and political in
 fluence of the Jewish community in the United States\, the variety of alte
 rnative models it offers for living a rich Jewish life\, and the intricate
  relations between them and the State of Israel. The show is presented by 
 Guri Alfi\, one of Israel’s most popular comedians—and was produced f
 or the Public Broadcasting Corporation in...
DTSTART;TZID=America/New_York:20211026T193000
DTEND;TZID=America/New_York:20211026T210000
END:VEVENT
END:VCALENDAR
